BEGIN:VCALENDAR
VERSION:2.0
PRODID:-//Global Third Party Reproductive Care | RSMC - ECPv6.15.20//NONSGML v1.0//EN
CALSCALE:GREGORIAN
METHOD:PUBLISH
X-ORIGINAL-URL:https://fertile.com
X-WR-CALDESC:Events for Global Third Party Reproductive Care | RSMC
REFRESH-INTERVAL;VALUE=DURATION:PT1H
X-Robots-Tag:noindex
X-PUBLISHED-TTL:PT1H
BEGIN:VTIMEZONE
TZID:America/Los_Angeles
BEGIN:DAYLIGHT
TZOFFSETFROM:-0800
TZOFFSETTO:-0700
TZNAME:PDT
DTSTART:20190310T100000
END:DAYLIGHT
BEGIN:STANDARD
TZOFFSETFROM:-0700
TZOFFSETTO:-0800
TZNAME:PST
DTSTART:20191103T090000
END:STANDARD
BEGIN:DAYLIGHT
TZOFFSETFROM:-0800
TZOFFSETTO:-0700
TZNAME:PDT
DTSTART:20200308T100000
END:DAYLIGHT
BEGIN:STANDARD
TZOFFSETFROM:-0700
TZOFFSETTO:-0800
TZNAME:PST
DTSTART:20201101T090000
END:STANDARD
BEGIN:DAYLIGHT
TZOFFSETFROM:-0800
TZOFFSETTO:-0700
TZNAME:PDT
DTSTART:20210314T100000
END:DAYLIGHT
BEGIN:STANDARD
TZOFFSETFROM:-0700
TZOFFSETTO:-0800
TZNAME:PST
DTSTART:20211107T090000
END:STANDARD
END:VTIMEZONE
BEGIN:VEVENT
DTSTART;TZID=America/Los_Angeles:20200923T180000
DTEND;TZID=America/Los_Angeles:20200923T190000
DTSTAMP:20260422T034012
CREATED:20191112T141310Z
LAST-MODIFIED:20250331T081937Z
UID:10665-1600884000-1600887600@fertile.com
SUMMARY:On-Demand Egg Freezing Seminar
DESCRIPTION:RSMC On-Demand Fertility Preservation Seminar for Potential\, New\, And Existing Patients\nIn modern society we are faced with the dilemma of competing priorities: pursuing a career\, finding the right partner\, and having a family. Fertility preservation puts you in control of the timeline\, allowing you to maximize your peak fertility while allowing you to focus on advancing your career or meeting the right partner. Learn more about the options available and take charge of your future fertility. \nFeatured Topics:  \n\nEgg and embryo freezing options to preserve peak fertility for the modern women\nReasons for women to consider egg freezing\nSuccess rates of egg freezing and later use\nEgg freezing process at our fertility clinic\nEgg freezing costs\nWhat makes our center the best egg freezing clinic to partner with\n\nOur goal is to educate and help you better understand the family building options available. \nRSMC offers on-demand seminars for new and potential patients. All seminars are conducted by our fertility doctors. \nFertility can be a sensitive topic\, so Reproductive Sciences Medical Center gives you the option to watch the seminar virtually without going to an in-person appointment. We will provide you with a video link that lets you join the seminar from your laptop or phone and you can see the presentation on your device whenever and wherever you want. \nSo sign up\, go through our email with the video link\, and enjoy our informative seminar from the convenience of your own home! \n\nWatch the Seminar\, wherever you want\, whenever you want!\nSign up to get email access to our on-demand seminar\n\n\n                 \n \n                        InstagramThis field is for validation purposes and should be left unchanged.Full Name*Email*\n                            \n                        Phone Number*WeChat IdSelect Seminar You Wish to Watch?*Select Seminar You Wish to Watch? *IVF: Infertility and Beyond  SeminarEgg Freezing SeminarLGBTQ+ Family Building SeminarNumber of adults (include yourself)*How did you hear about our on-demand seminar?*How did you hear about our on-demand seminar? *Doctor (please specify)Internet Search (please specify)Social Media (please specify)A Friend (please specify)Event Listing (please specify)Flyer (please specify)Other (please specify)Please Specify*By submitting this form\, you agree to our Privacy Policy and Terms of Use and consent to receive occasional messages from RSMC.
URL:https://fertile.com/seminar/egg-freezing/
LOCATION:Reproductive Sciences Medical Center\, 3661 Valley Centre Drive\, San Diego\, CA\, 92130\, United States
CATEGORIES:Fertility Preservation or Egg Freezing
ATTACH;FMTTYPE=image/webp:https://fertile.com/wp-content/uploads/CF-RSMC-Heading.webp
END:VEVENT
END:VCALENDAR